BEGIN:VCALENDAR
VERSION:2.0
PRODID:-//NMDOT - ECPv6.15.20//NONSGML v1.0//EN
CALSCALE:GREGORIAN
METHOD:PUBLISH
X-WR-CALNAME:NMDOT
X-ORIGINAL-URL:https://www.dot.nm.gov
X-WR-CALDESC:Events for NMDOT
REFRESH-INTERVAL;VALUE=DURATION:PT1H
X-Robots-Tag:noindex
X-PUBLISHED-TTL:PT1H
BEGIN:VTIMEZONE
TZID:America/Denver
BEGIN:DAYLIGHT
TZOFFSETFROM:-0700
TZOFFSETTO:-0600
TZNAME:MDT
DTSTART:20250309T090000
END:DAYLIGHT
BEGIN:STANDARD
TZOFFSETFROM:-0600
TZOFFSETTO:-0700
TZNAME:MST
DTSTART:20251102T080000
END:STANDARD
BEGIN:DAYLIGHT
TZOFFSETFROM:-0700
TZOFFSETTO:-0600
TZNAME:MDT
DTSTART:20260308T090000
END:DAYLIGHT
BEGIN:STANDARD
TZOFFSETFROM:-0600
TZOFFSETTO:-0700
TZNAME:MST
DTSTART:20261101T080000
END:STANDARD
BEGIN:DAYLIGHT
TZOFFSETFROM:-0700
TZOFFSETTO:-0600
TZNAME:MDT
DTSTART:20270314T090000
END:DAYLIGHT
BEGIN:STANDARD
TZOFFSETFROM:-0600
TZOFFSETTO:-0700
TZNAME:MST
DTSTART:20271107T080000
END:STANDARD
END:VTIMEZONE
BEGIN:VEVENT
DTSTART;TZID=America/Denver:20260402T180000
DTEND;TZID=America/Denver:20260402T200000
DTSTAMP:20260420T062003
CREATED:20260310T215713Z
LAST-MODIFIED:20260415T202842Z
UID:36305-1775152800-1775160000@www.dot.nm.gov
SUMMARY:You're Invited: PUBLIC MEETING for NM 333 & NM 217 Intersection Project\, CN A312290
DESCRIPTION:THANK YOU FOR PARTICIPATING IN THE PUBLIC MEETING! \n						\n					\n				\n			\n				\n				\n				\n				\n				\n					\n					\n						\n						On April 2\, 2026 a public meeting was held in Edgewood\, NM to provide community members updates about the proposed safety and traffic flow improvements to this intersection. This included key findings from the 2025 intersection analysis\, as well as the preferred traffic calming measures under consideration. \n					\n				\n			\n				\n				\n				\n				\n				\n					\n					\n						MEETING RESOURCES\n						\n					\n				\n			\n				\n				\n				\n				\n				\n					\n					\n						Public Presentation (PDF)  - April 2026\n						\n					\n				\n			\n				\n				\n				\n				\n				\n					\n					\n						WE WELCOME YOUR COMMENTS!\n						\n					\n				\n			\n				\n				\n				\n				\n				\n					\n					\n						\n						NMDOT recognizes that community feedback is a vital part of the project process and helps ensure the improvements reflect local needs. All comments received during the public comment period\, at the meeting or through the mail\, email\, and online comment form\, will be reviewed by the project team.  Please share them with us by May 2\, 2026. \nMAIL:  4041 Jefferson Plaza NE\, Ste 210\, Albuquerque\, NM 87109EMAIL: NM333-217Improvement@parametrix.comPHONE:  (505) 998-5576 \n					\n				\n			\n				\n				\n				\n				\n				\n\n                \n                        \n                            Comment Form - NM333 & NM217 Intersection Improvement\, CN A312290\n                            Please use the following form to submit feedback about this project to our project team! \n                        \n                        FacebookThis field is for validation purposes and should be left unchanged.First Name(Required)Last NameEmail AddressMailing AddressPlease share your comments and questions.Please let us know how you heard about the public meeting (check all that apply):\n								\n								newspaper ad\n							\n								\n								social media\n							\n								\n								flyer\n							\n								\n								email\n							\n								\n								mail\n							\n								\n								other\n							How can we improve how we communicate with your community about this project?CAPTCHA\n          \n            \n            \n            \n            \n            \n            \n            \n            \n            \n            \n            \n            \n            \n        \n                        \n                        \n\n			\n			\n				\n				\n				\n				\n				\n				\n				\n				\n				\n				\n			\n				\n				\n				\n				\n				Project Area Map (Click to enlarge image) \n			\n				\n				\n				\n				\n				STAY CONNECTED!  \nVisit the project page and learn more about this key intersection improvement.\n  \n				Click Here\n			\n				\n				\n				\n				\n				\n					\n					\n						\n						If you need language assistance\, translated materials\, or accommodations under the Americans with Disabilities Act (ADA) or Title VI\, please contact Tyler Pennington at:NM333-217Improvement@Parametrix.com
URL:https://www.dot.nm.gov/event/nm-333-217-improve/
LOCATION:Estancia Valley Classical Academy\, 110 NM-344\, Edgewood\, New Mexico\, 87015\, United States
CATEGORIES:NMDOT Projects,Public Meetings
END:VEVENT
END:VCALENDAR