BEGIN:VCALENDAR
VERSION:2.0
PRODID:-//NMDOT - ECPv6.15.20//NONSGML v1.0//EN
CALSCALE:GREGORIAN
METHOD:PUBLISH
X-ORIGINAL-URL:https://www.dot.nm.gov
X-WR-CALDESC:Events for NMDOT
REFRESH-INTERVAL;VALUE=DURATION:PT1H
X-Robots-Tag:noindex
X-PUBLISHED-TTL:PT1H
BEGIN:VTIMEZONE
TZID:America/Denver
BEGIN:DAYLIGHT
TZOFFSETFROM:-0700
TZOFFSETTO:-0600
TZNAME:MDT
DTSTART:20240310T090000
END:DAYLIGHT
BEGIN:STANDARD
TZOFFSETFROM:-0600
TZOFFSETTO:-0700
TZNAME:MST
DTSTART:20241103T080000
END:STANDARD
BEGIN:DAYLIGHT
TZOFFSETFROM:-0700
TZOFFSETTO:-0600
TZNAME:MDT
DTSTART:20250309T090000
END:DAYLIGHT
BEGIN:STANDARD
TZOFFSETFROM:-0600
TZOFFSETTO:-0700
TZNAME:MST
DTSTART:20251102T080000
END:STANDARD
BEGIN:DAYLIGHT
TZOFFSETFROM:-0700
TZOFFSETTO:-0600
TZNAME:MDT
DTSTART:20260308T090000
END:DAYLIGHT
BEGIN:STANDARD
TZOFFSETFROM:-0600
TZOFFSETTO:-0700
TZNAME:MST
DTSTART:20261101T080000
END:STANDARD
END:VTIMEZONE
BEGIN:VEVENT
DTSTART;TZID=America/Denver:20250226T083000
DTEND;TZID=America/Denver:20250226T123000
DTSTAMP:20260419T114259
CREATED:20250122T232248Z
LAST-MODIFIED:20250205T175156Z
UID:10000268-1740558600-1740573000@www.dot.nm.gov
SUMMARY:NMDOT Public Involvement Trainings (Consultants and Professionals)
DESCRIPTION:WHEN:  Wednesday\, Feb. 26: 8:30 am – 12:30 pm\nWHERE:  7500 Pan American Freeway NE (D3 Auditorium)\, Albuquerque\nThe New Mexico Department of Transportation is hosting training workshops for the consultant and professional community to sharpen their public involvement skills. The 4-hour workshop will include a presentation\, small group activities\, group discussions\, and more. After the session\, you’ll walk away with a better understanding of how to successfully engage and inform your community when it comes to transportation projects. You will be exposed to NMDOT’s requirements and standards for public involvement. \nVisit the Public Involvement Portal and Toolbox to RSVP and learn more about NMDOT’s efforts to enhance public engagement throughout New Mexico. You can also RSVP by responding to this email (nick.fazio@wsp.com) with the session you plan to attend. \n			\n				SIGN UP NOW!
URL:https://www.dot.nm.gov/event/pi-training-06/
LOCATION:New Mexico Department of Transportation – D3 Auditorium\, 7500 Pan American Freeway NE\, Albuquerque\, New Mexico
CATEGORIES:Public Meetings
END:VEVENT
BEGIN:VEVENT
DTSTART;TZID=America/Denver:20250225T123000
DTEND;TZID=America/Denver:20250225T163000
DTSTAMP:20260419T114259
CREATED:20250122T231855Z
LAST-MODIFIED:20250205T190505Z
UID:10000267-1740486600-1740501000@www.dot.nm.gov
SUMMARY:NMDOT Public Involvement Trainings (Internal NMDOT Staff)
DESCRIPTION:WHEN:  Tuesday\, Feb. 25: 12:30 – 4:30 pmWHERE:  7500 Pan American Freeway NE (D3 Auditorium)\, Albuquerque\nThe New Mexico Department of Transportation is hosting training workshops for NMDOT team members to sharpen their public involvement skills. The 4-hour workshop will include a presentation\, small group activities\, group discussions\, and more. After the session\, you’ll walk away with a better understanding of how to successfully engage and inform your community when it comes to transportation projects. You will be exposed to NMDOT’s requirements and standards for public involvement. \nVisit the Public Involvement Portal and Toolbox to RSVP and learn more about NMDOT’s efforts to enhance public engagement throughout New Mexico. You can also RSVP by responding to this email (nick.fazio@wsp.com) with the session you plan to attend. \n			\n				SIGN UP NOW!
URL:https://www.dot.nm.gov/event/pi-training-05/
LOCATION:New Mexico Department of Transportation – D3 Auditorium\, 7500 Pan American Freeway NE\, Albuquerque\, New Mexico
CATEGORIES:Public Meetings
END:VEVENT
END:VCALENDAR