BEGIN:VCALENDAR
VERSION:2.0
PRODID:-//NMDOT - ECPv6.15.20//NONSGML v1.0//EN
CALSCALE:GREGORIAN
METHOD:PUBLISH
X-WR-CALNAME:NMDOT
X-ORIGINAL-URL:https://www.dot.nm.gov
X-WR-CALDESC:Events for NMDOT
REFRESH-INTERVAL;VALUE=DURATION:PT1H
X-Robots-Tag:noindex
X-PUBLISHED-TTL:PT1H
BEGIN:VTIMEZONE
TZID:America/Denver
BEGIN:DAYLIGHT
TZOFFSETFROM:-0700
TZOFFSETTO:-0600
TZNAME:MDT
DTSTART:20250309T090000
END:DAYLIGHT
BEGIN:STANDARD
TZOFFSETFROM:-0600
TZOFFSETTO:-0700
TZNAME:MST
DTSTART:20251102T080000
END:STANDARD
BEGIN:DAYLIGHT
TZOFFSETFROM:-0700
TZOFFSETTO:-0600
TZNAME:MDT
DTSTART:20260308T090000
END:DAYLIGHT
BEGIN:STANDARD
TZOFFSETFROM:-0600
TZOFFSETTO:-0700
TZNAME:MST
DTSTART:20261101T080000
END:STANDARD
BEGIN:DAYLIGHT
TZOFFSETFROM:-0700
TZOFFSETTO:-0600
TZNAME:MDT
DTSTART:20270314T090000
END:DAYLIGHT
BEGIN:STANDARD
TZOFFSETFROM:-0600
TZOFFSETTO:-0700
TZNAME:MST
DTSTART:20271107T080000
END:STANDARD
END:VTIMEZONE
BEGIN:VEVENT
DTSTART;TZID=America/Denver:20260507T173000
DTEND;TZID=America/Denver:20260507T190000
DTSTAMP:20260424T131827
CREATED:20260421T205847Z
LAST-MODIFIED:20260421T205851Z
UID:37212-1778175000-1778180400@www.dot.nm.gov
SUMMARY:Open House - Raise the Rails on US 64 Rio Grande Gorge Bridge - CN 5102000
DESCRIPTION:JOIN US FOR AN OPEN HOUSE!\n						The New Mexico Department of Transportation (NMDOT) is hosting an open house to share information about a project that will raise the rails at the Rio Grande Gorge Bridge. The bridge is located on U.S. Highway 64\, about eight miles west of the junction with N.M. Highway 522 in Taos County. The goal is to enhance safety while preserving the bridge’s historic character and structural integrity\, ensuring it remains a lasting symbol of connection and safe travel. \n					\n				\n			\n				\n				\n				\n				\n				\n					\n					\n						Open House Details\n						Thursday\, May 7th\, 20265:30 – 7:00 p.m. \nSagebrush Inn & Suites (Chamisa Room)1508 Paseo Del Pueblo Sur\,Taos\, NM 87571 \nWe hope to see you there! \n					\n				\n			\n				\n				\n				\n				\n				\n					\n					\n						Need Assistance?\n						For Americans with Disabilities Act (ADA) or Civil Rights Title VI accommodations and/or more information call or email Laura Rios at 480-619-3564 or at laura.rios@hdrinc.com.  \nPor favor comuníquese al (480) 619-3564 si desea esta informacion en Español. \n					\n				\n			\n				\n				\n				\n				\n				\n					\n					\n						Event Resources\n						\n					\n				\n			\n				\n				\n				\n				\n				\n					\n					\n						\n						Open House Presentation (PDF)[Coming soon] \n					\n				\n			\n			\n				\n				\n				\n				\n				\n				\n				\n				\n				\n				Stay Connected!Visit the project webpage for project details and community resources. \n				Click Here\n			\n				\n					\n				\n				\n				\n					\n						\n						\n							Current Side ProfileExisting side profile view of the Rio Grande Gorge Bridge as it spans the gorge \n							\n						\n					\n				\n				\n				\n				\n			\n			\n				\n				\n				\n					\n						\n						\n							Rendered Side ProfileRendering showing the potential side profile of the bridge with the new railing. \n							\n						\n					\n				\n				\n				\n				\n			\n			\n				\n				\n				\n					\n						\n						\n							Current Roadway View View of the existing railing along the bridge. \n							\n						\n					\n				\n				\n				\n				\n			\n			\n				\n				\n				\n					\n						\n						\n							Rendered Roadway ViewRendering showing the potential view from the roadway on the bridge. \n							\n						\n					\n				\n				\n				\n				\n			\n			\n				\n				\n				\n					\n						\n						\n							Western ViewRendering showing the potential view from the western end of the bridge overlooking the Rio Grande Gorge. \n							\n						\n					\n				\n				\n				\n				\n			\n			\n				\n				\n				\n					\n						\n						\n							Sidewalk ViewRendering showing the potential view from the sidewalk on the bridge. \n							\n						\n					\n				\n				\n				\n				\n			\n			\n				\n				\n			\n			\n			\n				\n				\n				\n				\n			\n				\n				\n				\n				\n				\n				\n				\n				\n				\n				\n				\n					\n					\n						FIND OUT MORE & SHARE YOUR THOUGHTS\n						If you can’t attend the Open House\, view the presentation and share your comments with our team by May 21\, 2026. \n					\n				\n			\n			\n				\n				\n				\n				\n			\n				\n				\n				\n				\n				\n				\n				\n				\n				\n				\n				\n					\n					\n						\n						By email: laura.rios@hdrinc.com \n					\n				\n			\n				\n				\n				\n				\n				\n					\n					\n						\n						By USPS Mail:Rio Grande Gorge Bridge Projectc/o HDR\, Inc.2155 Louisiana Blvd. NE\, Suite 3000Albuquerque\, NM 87110 \n					\n				\n			\n				\n				\n				\n				\n				\n					\n					\n						\n						Online: use the comment form available here \n					\n				\n			\n			\n				\n				\n				\n				\n				\n				\n				\n				\n				\n				\n\n                \n                        \n                            Comment Form - Raise the Rails | Safety Improvement Project at Rio Grande Gorge Bridge\, CN 5102000\n                            Please use the following form to submit feedback about this project to our project team! \n                        \n                        PhoneThis field is for validation purposes and should be left unchanged.First Name(Required)Last NameEmail AddressMailing AddressPlease share your comments and questions.Please let us know how you heard about the public meeting (check all that apply):\n								\n								newspaper ad\n							\n								\n								social media\n							\n								\n								flyer\n							\n								\n								email\n							\n								\n								mail\n							\n								\n								other\n							How can we improve how we communicate with your community about this project?CAPTCHA
URL:https://www.dot.nm.gov/event/raise-the-rails-event/
LOCATION:Sagebrush Inn & Suites – Chamisa Room\, 1508 Paseo Del Pueblo Sur\, Taos\, New Mexico\, 87571
CATEGORIES:NMDOT Projects,Public Meetings
END:VEVENT
END:VCALENDAR